{
 "currentVersion": 11.1,
 "serviceDescription": "DEM from LIDAR data and based on a single DEM mosaic image. Cell size is 5ft. DEM converted to a mosaic dataset.",
 "name": "DEMs/SRWMD_LIDAR_DEM_Image_MDdirect",
 "description": "DEM from LIDAR data and based on a single DEM mosaic image. Cell size is 5ft. DEM converted to a mosaic dataset.",
 "extent": {
  "xmin": 2094879.9999999993,
  "ymin": -3224.999999984866,
  "xmax": 2927319.999999999,
  "ymax": 615120.0000000151,
  "spatialReference": {
   "wkid": 103024,
   "latestWkid": 6441
  }
 },
 "initialExtent": {
  "xmin": 2094879.9999999993,
  "ymin": -3224.999999984866,
  "xmax": 2927319.999999999,
  "ymax": 615120.0000000151,
  "spatialReference": {
   "wkid": 103024,
   "latestWkid": 6441
  }
 },
 "fullExtent": {
  "xmin": 2094879.9999999993,
  "ymin": -3224.999999984866,
  "xmax": 2927319.999999999,
  "ymax": 615120.0000000151,
  "spatialReference": {
   "wkid": 103024,
   "latestWkid": 6441
  }
 },
 "sortableFields": "",
 "bandCount": 1,
 "pixelType": "F32",
 "minValues": [
  -16.55824851989746
 ],
 "maxValues": [
  318.9764709472656
 ],
 "meanValues": [
  80.418710986697
 ],
 "stdvValues": [
  49.09321923766997
 ],
 "hasMultidimensions": false,
 "pixelSizeX": 4.999999999999998,
 "pixelSizeY": 5,
 "datasetFormat": "FGDBR",
 "uncompressedSize": 82357617888,
 "blockWidth": 128,
 "blockHeight": 128,
 "compressionType": "LZ77",
 "bandNames": [
  "Band_1"
 ],
 "allowCopy": true,
 "allowAnalysis": true,
 "itemAccess": false,
 "minPixelSize": 0,
 "maxPixelSize": 0,
 "copyrightText": "Suwannee River Water Management District",
 "serviceDataType": "esriImageServiceDataTypeGeneric",
 "serviceSourceType": "esriImageServiceSourceTypeDataset",
 "objectIdField": "",
 "fields": [],
 "capabilities": "Image,Mensuration,Metadata,Tilemap",
 "defaultMosaicMethod": "Center",
 "allowedMosaicMethods": "",
 "sortField": "",
 "sortValue": null,
 "sortAscending": true,
 "mosaicOperator": "First",
 "defaultCompressionQuality": 75,
 "defaultResamplingMethod": "Bilinear",
 "maxImageHeight": 4100,
 "maxImageWidth": 15000,
 "allowRasterFunction": true,
 "rasterFunctionInfos": [
  {
   "name": "None",
   "description": "",
   "help": ""
  }
 ],
 "rasterTypeInfos": [
  {
   "name": "Raster Dataset",
   "description": "Supports all ArcGIS Raster Datasets",
   "help": ""
  }
 ],
 "mensurationCapabilities": "Basic",
 "hasHistograms": true,
 "hasColormap": false,
 "hasRasterAttributeTable": false,
 "minScale": 0,
 "maxScale": 0,
 "exportTilesAllowed": false,
 "supportsStatistics": false,
 "supportsAdvancedQueries": false,
 "editFieldsInfo": null,
 "ownershipBasedAccessControlForRasters": null,
 "allowComputeTiePoints": false,
 "useStandardizedQueries": true,
 "advancedQueryCapabilities": {
  "useStandardizedQueries": true,
  "supportsStatistics": false,
  "supportsOrderBy": false,
  "supportsDistinct": false,
  "supportsPagination": false
 },
 "spatialReference": {
  "wkid": 103024,
  "latestWkid": 6441
 }
}
