{
 "currentVersion": 11.1,
 "serviceDescription": "Kettle Creel DEM from 2020 LIDAR data as an image serivce",
 "name": "DEMs/dem_kettlecreek2020a_is",
 "description": "Kettle Creel DEM from 2020 LIDAR data as an image serivce",
 "extent": {
  "xmin": 2337309.5150732994,
  "ymin": 305114.2388501018,
  "xmax": 2349989.5150732994,
  "ymax": 338459.2388501018,
  "spatialReference": {
   "wkid": 103024,
   "latestWkid": 6441
  }
 },
 "initialExtent": {
  "xmin": 2337309.5150732994,
  "ymin": 305114.2388501018,
  "xmax": 2349989.5150732994,
  "ymax": 338459.2388501018,
  "spatialReference": {
   "wkid": 103024,
   "latestWkid": 6441
  }
 },
 "fullExtent": {
  "xmin": 2337309.5150732994,
  "ymin": 305114.2388501018,
  "xmax": 2349989.5150732994,
  "ymax": 338459.2388501018,
  "spatialReference": {
   "wkid": 103024,
   "latestWkid": 6441
  }
 },
 "sortableFields": "",
 "bandCount": 1,
 "pixelType": "F32",
 "minValues": [
  18.832801818848
 ],
 "maxValues": [
  57.232192993164
 ],
 "meanValues": [
  33.691255981856
 ],
 "stdvValues": [
  5.2085882861755
 ],
 "hasMultidimensions": false,
 "pixelSizeX": 2.5,
 "pixelSizeY": 2.5,
 "datasetFormat": "TIFF",
 "uncompressedSize": 270601344,
 "blockWidth": 128,
 "blockHeight": 128,
 "compressionType": "None",
 "bandNames": [
  "Band_1"
 ],
 "allowCopy": true,
 "allowAnalysis": true,
 "itemAccess": false,
 "noDataValue": -3.4028230607370965E38,
 "noDataValues": [
  -3.4028230607370965E38
 ],
 "minPixelSize": 0,
 "maxPixelSize": 0,
 "copyrightText": "SRWMD",
 "serviceDataType": "esriImageServiceDataTypeGeneric",
 "serviceSourceType": "esriImageServiceSourceTypeDataset",
 "objectIdField": "",
 "fields": [],
 "capabilities": "Image,Metadata,Mensuration",
 "defaultMosaicMethod": "Center",
 "allowedMosaicMethods": "",
 "sortField": "",
 "sortValue": null,
 "sortAscending": true,
 "mosaicOperator": "First",
 "defaultCompressionQuality": 75,
 "defaultResamplingMethod": "Bilinear",
 "maxImageHeight": 4100,
 "maxImageWidth": 15000,
 "allowRasterFunction": true,
 "rasterFunctionInfos": [
  {
   "name": "None",
   "description": "",
   "help": ""
  }
 ],
 "rasterTypeInfos": [
  {
   "name": "Raster Dataset",
   "description": "Supports all ArcGIS Raster Datasets",
   "help": ""
  }
 ],
 "mensurationCapabilities": "Basic",
 "hasHistograms": true,
 "hasColormap": false,
 "hasRasterAttributeTable": false,
 "minScale": 0,
 "maxScale": 0,
 "exportTilesAllowed": false,
 "supportsStatistics": false,
 "supportsAdvancedQueries": false,
 "editFieldsInfo": null,
 "ownershipBasedAccessControlForRasters": null,
 "allowComputeTiePoints": false,
 "useStandardizedQueries": true,
 "advancedQueryCapabilities": {
  "useStandardizedQueries": true,
  "supportsStatistics": false,
  "supportsOrderBy": false,
  "supportsDistinct": false,
  "supportsPagination": false
 },
 "spatialReference": {
  "wkid": 103024,
  "latestWkid": 6441
 }
}
