View In:
ArcGIS JavaScript
ArcGIS Online Map Viewer
ArcGIS Earth
Service Description: Test/odm_orthophoto_tif
Name: Test/odm_orthophoto_tif
Description:
Single Fused Map Cache: false
Extent:
XMin: 314437.42626437376
YMin: 3316040.6997736758
XMax: 314679.3965463171
YMax: 3316346.44990497
Spatial Reference: 32617
(32617)
Initial Extent:
XMin: 314437.42626437376
YMin: 3316040.6997736758
XMax: 314679.3965463171
YMax: 3316346.44990497
Spatial Reference: 32617
(32617)
Full Extent:
XMin: 314437.42626437376
YMin: 3316040.6997736758
XMax: 314679.3965463171
YMax: 3316346.44990497
Spatial Reference: 32617
(32617)
Pixel Size X: 0.01999919678843951
Pixel Size Y: 0.01999935448025453
Band Count: 4
Pixel Type: U8
RasterFunction Infos: {"rasterFunctionInfos": [{
"name": "None",
"description": "",
"help": ""
}]}
Mensuration Capabilities: Basic
Has Histograms: true
Has Colormap: false
Has Multi Dimensions : false
Rendering Rule:
Min Scale: 0
Max Scale: 0
Copyright Text:
Service Data Type: esriImageServiceDataTypeGeneric
Min Values: 0, 0, 0, 0
Max Values: 255, 255, 255, 255
Mean Values: 126.57338949999, 124.68408393708, 115.43887760815, 231.71534222891
Standard Deviation Values: 68.478340359204, 65.539184939716, 62.495007985533, 73.453471485518
Object ID Field:
Fields:
None
Default Mosaic Method: Center
Allowed Mosaic Methods:
SortField:
SortValue: null
Mosaic Operator: First
Default Compression Quality: 75
Default Resampling Method: Bilinear
Max Record Count: null
Max Image Height: 4100
Max Image Width: 15000
Max Download Image Count: null
Max Mosaic Image Count: null
Allow Raster Function: true
Allow Copy: true
Allow Analysis: true
Allow Compute TiePoints: false
Supports Statistics: false
Supports Advanced Queries: false
Use StandardizedQueries: true
Raster Type Infos:
Name: Raster Dataset
Description: Supports all ArcGIS Raster Datasets
Help:
Has Raster Attribute Table: false
Edit Fields Info: null
Ownership Based AccessControl For Rasters: null
Child Resources:
Info
Histograms
Statistics
Key Properties
Legend
Raster Function Infos
Supported Operations:
Export Image
Identify
Measure
Compute Histograms
Compute Statistics Histograms
Get Samples
Compute Class Statistics
Query Boundary
Compute Pixel Location
Compute Angles
Validate
Project