View In:
ArcGIS JavaScript
ArcGIS Online Map Viewer
ArcGIS Earth
Service Description: DEM from LIDAR data and based on a single DEM mosaic image. Cell size is 5ft. DEM converted to a mosaic dataset.
Name: DEMs/SRWMD_LIDAR_DEM_Image_MDdirect
Description: DEM from LIDAR data and based on a single DEM mosaic image. Cell size is 5ft. DEM converted to a mosaic dataset.
Single Fused Map Cache: false
Extent:
XMin: 2094879.9999999993
YMin: -3224.999999984866
XMax: 2927319.999999999
YMax: 615120.0000000151
Spatial Reference: 103024
(6441)
Initial Extent:
XMin: 2094879.9999999993
YMin: -3224.999999984866
XMax: 2927319.999999999
YMax: 615120.0000000151
Spatial Reference: 103024
(6441)
Full Extent:
XMin: 2094879.9999999993
YMin: -3224.999999984866
XMax: 2927319.999999999
YMax: 615120.0000000151
Spatial Reference: 103024
(6441)
Pixel Size X: 4.999999999999998
Pixel Size Y: 5.0
Band Count: 1
Pixel Type: F32
RasterFunction Infos: {"rasterFunctionInfos": [{
"name": "None",
"description": "",
"help": ""
}]}
Mensuration Capabilities: Basic
Has Histograms: true
Has Colormap: false
Has Multi Dimensions : false
Rendering Rule:
Min Scale: 0
Max Scale: 0
Copyright Text: Suwannee River Water Management District
Service Data Type: esriImageServiceDataTypeGeneric
Min Values: -16.55824851989746
Max Values: 318.9764709472656
Mean Values: 80.418710986697
Standard Deviation Values: 49.09321923766997
Object ID Field:
Fields:
None
Default Mosaic Method: Center
Allowed Mosaic Methods:
SortField:
SortValue: null
Mosaic Operator: First
Default Compression Quality: 75
Default Resampling Method: Bilinear
Max Record Count: null
Max Image Height: 4100
Max Image Width: 15000
Max Download Image Count: null
Max Mosaic Image Count: null
Allow Raster Function: true
Allow Copy: true
Allow Analysis: true
Allow Compute TiePoints: false
Supports Statistics: false
Supports Advanced Queries: false
Use StandardizedQueries: true
Raster Type Infos:
Name: Raster Dataset
Description: Supports all ArcGIS Raster Datasets
Help:
Has Raster Attribute Table: false
Edit Fields Info: null
Ownership Based AccessControl For Rasters: null
Child Resources:
Info
Histograms
Statistics
Key Properties
Legend
Raster Function Infos
Supported Operations:
Export Image
Identify
Measure
Compute Histograms
Compute Statistics Histograms
Get Samples
Compute Class Statistics
Query Boundary
Compute Pixel Location
Compute Angles
Validate
Project