View In:
ArcGIS JavaScript
ArcGIS Online Map Viewer
ArcGIS Earth
Service Description: Kettle Creel DEM from 2020 LIDAR data as an image serivce
Name: DEMs/dem_kettlecreek2020a_is
Description: Kettle Creel DEM from 2020 LIDAR data as an image serivce
Single Fused Map Cache: false
Extent:
XMin: 2337309.5150732994
YMin: 305114.2388501018
XMax: 2349989.5150732994
YMax: 338459.2388501018
Spatial Reference: 103024
(6441)
Initial Extent:
XMin: 2337309.5150732994
YMin: 305114.2388501018
XMax: 2349989.5150732994
YMax: 338459.2388501018
Spatial Reference: 103024
(6441)
Full Extent:
XMin: 2337309.5150732994
YMin: 305114.2388501018
XMax: 2349989.5150732994
YMax: 338459.2388501018
Spatial Reference: 103024
(6441)
Pixel Size X: 2.5
Pixel Size Y: 2.5
Band Count: 1
Pixel Type: F32
RasterFunction Infos: {"rasterFunctionInfos": [{
"name": "None",
"description": "",
"help": ""
}]}
Mensuration Capabilities: Basic
Has Histograms: true
Has Colormap: false
Has Multi Dimensions : false
Rendering Rule:
Min Scale: 0
Max Scale: 0
Copyright Text: SRWMD
Service Data Type: esriImageServiceDataTypeGeneric
Min Values: 18.832801818848
Max Values: 57.232192993164
Mean Values: 33.691255981856
Standard Deviation Values: 5.2085882861755
Object ID Field:
Fields:
None
Default Mosaic Method: Center
Allowed Mosaic Methods:
SortField:
SortValue: null
Mosaic Operator: First
Default Compression Quality: 75
Default Resampling Method: Bilinear
Max Record Count: null
Max Image Height: 4100
Max Image Width: 15000
Max Download Image Count: null
Max Mosaic Image Count: null
Allow Raster Function: true
Allow Copy: true
Allow Analysis: true
Allow Compute TiePoints: false
Supports Statistics: false
Supports Advanced Queries: false
Use StandardizedQueries: true
Raster Type Infos:
Name: Raster Dataset
Description: Supports all ArcGIS Raster Datasets
Help:
Has Raster Attribute Table: false
Edit Fields Info: null
Ownership Based AccessControl For Rasters: null
Child Resources:
Info
Histograms
Statistics
Key Properties
Legend
Raster Function Infos
Supported Operations:
Export Image
Identify
Measure
Compute Histograms
Compute Statistics Histograms
Get Samples
Compute Class Statistics
Query Boundary
Compute Pixel Location
Compute Angles
Validate
Project